BEGIN:VCALENDAR
VERSION:2.0
PRODID:-//Fakultas Ilmu Komputer Universitas Indonesia - ECPv6.15.18//NONSGML v1.0//EN
CALSCALE:GREGORIAN
METHOD:PUBLISH
X-ORIGINAL-URL:https://cs.ui.ac.id
X-WR-CALDESC:Events for Fakultas Ilmu Komputer Universitas Indonesia
REFRESH-INTERVAL;VALUE=DURATION:PT1H
X-Robots-Tag:noindex
X-PUBLISHED-TTL:PT1H
BEGIN:VTIMEZONE
TZID:Asia/Krasnoyarsk
BEGIN:STANDARD
TZOFFSETFROM:+0700
TZOFFSETTO:+0700
TZNAME:+07
DTSTART:20200101T000000
END:STANDARD
END:VTIMEZONE
BEGIN:VEVENT
DTSTART;TZID=Asia/Krasnoyarsk:20210702T080000
DTEND;TZID=Asia/Krasnoyarsk:20210703T170000
DTSTAMP:20260420T071745
CREATED:20200701T001357Z
LAST-MODIFIED:20211207T002000Z
UID:19725-1625212800-1625331600@cs.ui.ac.id
SUMMARY:Workshop Penulisan Ilmiah Pra ICACSIS IWBIS 2020
DESCRIPTION:Bersama dengan ini kami umumkan kegiatan Workshop Virtual Penulisan Ilmiah untuk Mahasiswa MIK dan DIK dengan detil sebagai berikut:
URL:https://cs.ui.ac.id/event/workshop-penulisan-ilmiah-pra-icacsis-iwbis-2020/
LOCATION:Virtual
CATEGORIES:Academic,Research,Workshop
ATTACH;FMTTYPE=image/jpeg:https://cs.ui.ac.id/wp-content/uploads/2021/12/workshop-mik-dik-pra-cacsis-2020.jpeg
END:VEVENT
BEGIN:VEVENT
DTSTART;TZID=Asia/Krasnoyarsk:20210630T090000
DTEND;TZID=Asia/Krasnoyarsk:20210630T120000
DTSTAMP:20260420T071745
CREATED:20210623T044032Z
LAST-MODIFIED:20210623T044032Z
UID:14313-1625043600-1625054400@cs.ui.ac.id
SUMMARY:Open House Pascasarjana Fasilkom UI 2021
DESCRIPTION:Fasilkom UI menyelenggarakan Open House Webinar Pascasarjana bagi calon mahasiswa yang ingin mengenal lebih dekat kurikulum dan riset program magister dan doktoral Fasilkom UI. \nOpen House Pascasarjana Fasilkom UI ini akan diselenggarakan pada:\nHari\, tanggal: Rabu\, 30 Juni 2021\nWaktu: 09:00 – 12:00 WIB \nWebinar ini menghadirkan narasumber dari Fasilkom UI\, di antaranya:\n– Harry B. Santoso Ph.D. (Koordinator Program Magister & Doktor Ilmu Komputer)\n– Betty Purwandari\, Ph.D. (Ketua Program Studi Magister Teknologi Informasi)\n– Prof. Dr. Eko K. Budiardjo (Kepala Lab Reliable Software Engineering)\n– Prof. Dana Indra Sensuse\, Ph.D. (Kepala Lab E-government & E-business)\n– Setiadi Yazid\, Ph.D. (Kepala Lab Computer Networks\, Architecture & High Performance Computing)\n– Dr. Erdefi Rakun (Dosen & Peneliti Lab Machine Learning & Computer Vision)\n– Dr. Kasiyah (Dosen dan Peneliti Lab Digital Library & Distance Learning)\n– Bobby A. A. Nazief\, Ph.D. (Kepala Lab Information Management) \nDaftarkan diri Anda segera melalui tautan: http://s.id/OHPascaFasilkomUI \nDapatkan hadiah menarik dengan mendaftar dan memposting ulang kiriman ini. Jangan lupa tag tiga orang teman kamu dengan menyertakan #OHPascaFasilkomUI. \nSampai bertemu di Open House Pascasarjana 2021 Fasilkom UI\, ya!
URL:https://cs.ui.ac.id/event/open-house-pascasarjana-fasilkom-ui-2021/
LOCATION:Virtual
CATEGORIES:Academic
ATTACH;FMTTYPE=image/jpeg:https://cs.ui.ac.id/wp-content/uploads/2021/06/open-house-pasca-fasilkom-ui-2021.jpeg
ORGANIZER;CN="Humas Fasilkom UI":MAILTO:humasfasilkom@cs.ui.ac.id
END:VEVENT
BEGIN:VEVENT
DTSTART;TZID=Asia/Krasnoyarsk:20210611T090000
DTEND;TZID=Asia/Krasnoyarsk:20210612T150000
DTSTAMP:20260420T071745
CREATED:20210606T170227Z
LAST-MODIFIED:20210606T170227Z
UID:14256-1623402000-1623510000@cs.ui.ac.id
SUMMARY:Paper Coaching Clinic: Pre-ICACSIS & IWBIS 2021
DESCRIPTION:Paper Coaching Clinic: Pre-ICACSIS & IWBIS 2021 \nIn order to facilitate potential authors in preparing their manuscripts\, the ICACSIS and IWBIS 2021 organizing committee will hold a Paper Coaching Clinic as a pre-conference activity. \n🗓️ Friday & Saturday\, 11 & 12 June 2021\n🔗 Registration Link:\nDay 1: bit.ly/Paper2021_Day1\nDay 2: bit.ly/Paper2021_Day2 \nSpeakers:\nSession 1: Dr. Panca O. Hadi Putra\n🗓️ Friday\, 11 June 2021\n🕤 09.00 – 11.00 WIB (GMT +7) \nSession 2: Fariz Darari\, Ph.D\n🗓️ Friday\, 11 June 2021\n🕐 13.00 – 15.00 WIB (GMT +7) \nSession 3: Prof. Dr. Eng. Wisnu Jatmiko\n🗓️ Saturday\, 12 June 2021\n🕤 09.00 – 11.00 WIB (GMT +7) \nSession 4: Prof. Dr. Eng. Wisnu Jatmiko\n🗓️ Saturday\, 12 June 2021\n🕐 13.00 – 15.00 WIB (GMT +7) \nParticipants can send a manuscript to be submitted to ICACSIS / IWBIS 2021 for pre-review in the coaching clinic session. Upload manuscript here: bit.ly/PaperSubmit2021\n*pre-review is not the actual review process of ICACSIS/IWBIS 2021 \n📄 Free Paper Registration at ICACSIS or IWBIS 2021 for 10 selected papers \n🛍️ Free UI merchandise for 15 selected participants \nFor more information\, please visit our conference homepage:\nhttps://iwbis.cs.ui.ac.id/ https://icacsis.cs.ui.ac.id/
URL:https://cs.ui.ac.id/event/paper-coaching-clinic-pre-icacsis-iwbis-2021/
LOCATION:Virtual
CATEGORIES:Academic,Research
ATTACH;FMTTYPE=image/jpeg:https://cs.ui.ac.id/wp-content/uploads/2021/06/paper-coaching-clinic-2021-fasilkom-ui.jpeg
END:VEVENT
BEGIN:VEVENT
DTSTART;TZID=Asia/Krasnoyarsk:20210505T133000
DTEND;TZID=Asia/Krasnoyarsk:20210507T170000
DTSTAMP:20260420T071745
CREATED:20210503T041441Z
LAST-MODIFIED:20210503T044144Z
UID:14022-1620221400-1620406800@cs.ui.ac.id
SUMMARY:UI Open Days 2021 (Virtual)
DESCRIPTION:Bersama ini kami umumkan acara UI Open Days 2021 yang diselenggarakan oleh Humas UI. \nAda pun jawal presentasi Fakultas Ilmu Komputer UI ada sebagai berikut: \nPresentasi Fakultas \n🗓️ Rabu\, 5 Mei\, 2021\n🕘 13:00 – 14:30 WIB ) via Zoom \nTalk Show Kelas Internasional \n🗓️ Jum’at\, 7 Mei\, 2021\n🕘 15:30 – 17:00 WIB ) via Zoom \n🔗 Pendaftaran: https://joy.link/uiopendays\n🔗 Landing page Fasilkom UI: https://cs.ui.ac.id/uiopendays2021/
URL:https://cs.ui.ac.id/event/ui-open-days-2021/
LOCATION:Virtual
CATEGORIES:Academic
ATTACH;FMTTYPE=image/jpeg:https://cs.ui.ac.id/wp-content/uploads/2021/05/thumbnail-event-ui-open-days-2021-2.jpg
END:VEVENT
BEGIN:VEVENT
DTSTART;TZID=Asia/Krasnoyarsk:20210427T093000
DTEND;TZID=Asia/Krasnoyarsk:20210427T110000
DTSTAMP:20260420T071745
CREATED:20210412T050742Z
LAST-MODIFIED:20210421T043826Z
UID:13897-1619515800-1619521200@cs.ui.ac.id
SUMMARY:Research Talk with Prof. Tan Chuan Hoo of National University of Singapore
DESCRIPTION:The Faculty of Computer Science at Universitas Indonesia presents Research Talk\, a live webinar series where we invite researchers from all over the world to discuss cutting edge research in the field of computer science and informations systems. \nThe upcoming April 2021 edition of Research Talk is scheduled with the following details \nTopic: Healthcare Rural-Urban Access Inequality Challenge: Transformative Roles of IT\nSpeaker: Prof. Tan Chuan Hoo (Associate Professor & Deputy Head\, Department Of Information Systems and Analytics\, School of Computing\, National University of Singapore) \n🗓️ Tuesday\, 27 April\, 2021\n🕘  9:30am – 11:00pm WIB (GMT+7) via Zoom\n🔗 Registration (FREE): https://s.id/researchtalkui \nHost: Dr. Panca Hadi Putra (Faculty of Computer Science\, Universitas Indonesia)\nDiscussion Moderator: Dr. Betty Purwandari (Faculty of Computer Science\, Universitas Indonesia) \nAbstract: \nHealthcare rural-urban access inequality indicates the disparity among rural and urban people with severe medical ailments in gaining access to high-quality healthcare services. Although much hope has been pinned on the use of health information technology (HIT) to alleviate this critical and enduring societal challenge\, the realized societal impact of HIT is unclear. Anchoring on both the social transformation theory and the affordance actualization theory\, we conducted an in-depth qualitative study with two rounds of data collection in Mainland China. Our analysis contributes to a theory of HIT solution for the healthcare rural-urban access inequality challenge by establishing the link between HIT affordances and HIT interventions. This is done by examining how micro-level HIT effects (i.e.\, individual-level affordance) escalate to macro-level HIT effects (i.e.\, societal-level affordance)\, which lead to addressing the healthcare access inequality challenge. Along with providing policy implications on introducing HIT solutions to address the intricate societal challenges\, it also extends the referenced theories by conceiving a way to generate macro-level affordance. \n\nSpeaker bio:\n\nChuan Hoo (CH) is Associate Professor (tenured) and Deputy Head (Programmes) in the Department of Information Systems and Analytics\, School of Computing at the National University of Singapore (NUS). He is the curriculum chair for the department. Prior to joining NUS\, he held a tenured faculty position in Hong Kong. Chuan Hoo conducts research in the area of the digital economy\, digitalization and future of work with a range of organisations and institutions. His work has appeared in premium journals such as MIS Quarterly\, Information Systems Research\, Journal of Management Information Systems\, Journal of AIS\, ACM Transactions on Management Information Systems\, IEEE Transactions on Engineering Management\, Journal of American Society for Information Science and Technology\, Long Range Planning among many others. He has authored over 100 peer-reviewed papers (http://goo.gl/gZcd47). He serves or has served on the editorial boards of leading journals including MIS Quarterly (Associate Editor)\, Journal of AIS (editorial board member)\, IEEE Transactions on Engineering Management (editorial board members)\, among others. Chuan Hoo is the recipient of the INFORMS ISS Design Science Award (2013)\, MIS Quarterly outstanding associate editor award (2016)\, Journal of AIS best reviewer award (2016)\, and NUS School of Computing faculty teaching excellence award (2017).
URL:https://cs.ui.ac.id/event/research-talk-with-prof-tan-chuan-hoo-of-national-university-of-singapore/
LOCATION:Virtual
CATEGORIES:Academic,Research Talk
ATTACH;FMTTYPE=image/jpeg:https://cs.ui.ac.id/wp-content/uploads/2021/04/research-talk-tan-chuan-hoo.jpeg
ORGANIZER;CN="Humas Fasilkom UI":MAILTO:humasfasilkom@cs.ui.ac.id
END:VEVENT
BEGIN:VEVENT
DTSTART;TZID=Asia/Krasnoyarsk:20210424T100000
DTEND;TZID=Asia/Krasnoyarsk:20210425T120000
DTSTAMP:20260420T071745
CREATED:20210423T071408Z
LAST-MODIFIED:20210423T071408Z
UID:13956-1619258400-1619352000@cs.ui.ac.id
SUMMARY:Establishing Academic Partnership
DESCRIPTION:Fasilkom UI Research Month: Enhancing Research Experience | Road to ICACSIS-IWBIS 2021 \nLet’s join our International Benchmarking Program with interesting talk in the fields of computer science and information systems. The speaker for this event is: \nProf. Taufik (California Polytechnic State University)\nTopic: Establishing Academic Partnership with US Universities \n🗓️ Saturday\, 24 April 2021\n🕠 10.00 – 12.00 WIB (GMT+7)\n🔗 Registration Link: https://s.id/Fasilkom_24Apr \n📃 Free E-certificate \nFinancially sponsored by:\nDirektorat Pengembangan Akademik dan Sumber Daya Pembelajaran\, Universitas Indonesia \nCo-Host:\nUniversitas Pertahanan Indonesia\nPoliteknik Siber dan Sandi Negara \nTechnically sponsored by:\nIEEE Indonesia Section
URL:https://cs.ui.ac.id/event/establishing-academic-partnership/
LOCATION:Virtual
CATEGORIES:Academic,Research
ATTACH;FMTTYPE=image/jpeg:https://cs.ui.ac.id/wp-content/uploads/2021/04/fasilkom-ui-research-month-taufik.jpeg
END:VEVENT
BEGIN:VEVENT
DTSTART;TZID=Asia/Krasnoyarsk:20210421T163000
DTEND;TZID=Asia/Krasnoyarsk:20210421T180000
DTSTAMP:20260420T071745
CREATED:20210412T051730Z
LAST-MODIFIED:20210412T051730Z
UID:13901-1619022600-1619028000@cs.ui.ac.id
SUMMARY:International Benchmarking Program
DESCRIPTION:Fasilkom UI Research Month: Enhancing Research Experience | Road to ICACSIS-IWBIS 2021 \nLet’s join our International Benchmarking Program with interesting talk in the fields of computer science and information systems. The speaker for this event is: \nDr. Crina Grosan (Brunel University London)\nTopic: Spatio-temporal Patterns in Human Activity Assessment \n🗓️ Wednesday\, 21 April 2021\n🕠 16.30 – 18.00 WIB (GMT+7)\n🔗 Registration Link: https://s.id/Fasilkom_21Apr \n📃 Free E-certificate \nFinancially sponsored by:\nDirektorat Pengembangan Akademik dan Sumber Daya Pembelajaran\, Universitas Indonesia \nCo-Host:\nUniversitas Pertahanan Indonesia\nPoliteknik Siber dan Sandi Negara \nTechnically sponsored by:\nIEEE Indonesia Section
URL:https://cs.ui.ac.id/event/international-benchmarking-program/
LOCATION:Virtual
CATEGORIES:Academic
ATTACH;FMTTYPE=image/jpeg:https://cs.ui.ac.id/wp-content/uploads/2021/04/international-benchmarking-fasilkom-ui-2021.jpeg
END:VEVENT
BEGIN:VEVENT
DTSTART;TZID=Asia/Krasnoyarsk:20210417T090000
DTEND;TZID=Asia/Krasnoyarsk:20210417T150000
DTSTAMP:20260420T071745
CREATED:20210423T072216Z
LAST-MODIFIED:20210423T072240Z
UID:13959-1618650000-1618671600@cs.ui.ac.id
SUMMARY:Applied Machine Learning and Search Modeling
DESCRIPTION:Fasilkom UI Research Month: Enhancing Research Experience | Road to ICACSIS-IWBIS 2021 \nLet’s join our Academic Reputation Enhancement Program with interesting talks on scientific research in the field of computer science. The speakers for this event are: \n1. Dr. Wahyu Caesarendra\, Ph.D (Universiti Brunei Darussalam)\nTopic: “Applied Machine Learning and Deep Learning for Making Human Life Better” \n2. Alfan Farizki\, Ph.D (Universitas Indonesia)\nTopic: “Modelling Search and Session Effectiveness” \n🗓️ Friday\, 17 April 2021\n🕥 Session 1: 09.00 – 11.00 (GMT+7)\n🕜 Session 2: 13.00 – 15.00 (GMT+7)\n🔗 Registration Link: https://s.id/Fasilkom_17Apr \n📃 Free E-certificate \nFinancially sponsored by:\nDirektorat Pengembangan Akademik dan Sumber Daya Pembelajaran\, Universitas Indonesia \nCo-Host:\nUniversitas Pertahanan Indonesia\nPoliteknik Siber dan Sandi Negara \nTechnically sponsored by:\nIEEE Indonesia Section \nThank you.
URL:https://cs.ui.ac.id/event/applied-machine-learning-and-search-modeling/
LOCATION:Virtual
CATEGORIES:Academic,Research
ATTACH;FMTTYPE=image/jpeg:https://cs.ui.ac.id/wp-content/uploads/2021/04/fasilkom-ui-research-month-applied-machine-search.jpeg
END:VEVENT
BEGIN:VEVENT
DTSTART;TZID=Asia/Krasnoyarsk:20210410T090000
DTEND;TZID=Asia/Krasnoyarsk:20210410T143000
DTSTAMP:20260420T071745
CREATED:20210406T045514Z
LAST-MODIFIED:20210409T020830Z
UID:13860-1618045200-1618065000@cs.ui.ac.id
SUMMARY:Enhancing Research Experience
DESCRIPTION:Fasilkom UI Research Month: Enhancing Research Experience | Road to ICACSIS-IWBIS 2021 \nLet’s join our Academic Reputation Enhancement Program with interesting talks in the fields of computer science and information systems. The speakers on our event are: \n1. Prof. Tsukasa Hirashima (Hiroshima University)\nTopic: “Scientific Article Writing and Effective Strategies to Submit to A Conference and Journal” \n2. Dr. Putu Wuri Handayani (Universitas Indonesia)\nTopic: “Writing A Published Journal Article” \nHost: Prof. Wisnu Jatmiko (Professor at Universitas Indonesia)\nModerator: Harry Budi Santoso\, Ph.D. (Coordinator of Master and Doctoral of Computer Science\, Universitas Indonesia) \n🗓️ Saturday\, 10 April 2021\n🕘 Session 1: 09.00 – 13.00 (GMT+7)\n🕐 Session 2: 13.00 – 15.00 (GMT+7)\n🔗 Registration Link: https://s.id/Fasilkom_10Apr1 \n📃 Free E-certificate \nFinancially sponsored by:\nDirektorat Pengembangan Akademik dan Sumber Daya Pembelajaran\, Universitas Indonesia \nCo-Host:\nUniversitas Pertahanan Indonesia\nPoliteknik Siber dan Sandi Negara \nTechnically sponsored by:\nIEEE Indonesia Section \nThank you.
URL:https://cs.ui.ac.id/event/enhancing-research-experience/
LOCATION:Virtual
CATEGORIES:Academic
ATTACH;FMTTYPE=image/jpeg:https://cs.ui.ac.id/wp-content/uploads/2021/04/global-academic-program-2021-v3.jpeg
END:VEVENT
BEGIN:VEVENT
DTSTART;TZID=Asia/Krasnoyarsk:20210409T093000
DTEND;TZID=Asia/Krasnoyarsk:20210409T143000
DTSTAMP:20260420T071745
CREATED:20210405T020215Z
LAST-MODIFIED:20210409T020827Z
UID:13848-1617960600-1617978600@cs.ui.ac.id
SUMMARY:Global Academic Program
DESCRIPTION:Fasilkom UI Research Month: Enhancing Research Experience | Road to ICACSIS-IWBIS 2021 \nLet’s join our Academic Reputation Enhancement Program with interesting talks on scientific research in the field of computer science. The speakers for this event are: \n1. Henrik Skibbe\, Ph.D (RIKEN – Center for Brain Science)\nTopic: “Advanced Methods for Medical Data Image Processing” \n2. Fariz Darari\, Ph.D (Universitas Indonesia)\nTopic: “Measuring and explaining knowledge inequalities: A case study of Wikidata” \n🗓️ Friday\, 9 April 2021\n🕥 Session 1: 09.30 – 11.30 (GMT+7)\n🕜 Session 2: 13.30 – 15.30 (GMT+7)\n🔗 Registration Link: https://s.id/Fasilkom_HS \n📃 Free E-certificate \nFinancially sponsored by:\nDirektorat Pengembangan Akademik dan Sumber Daya Pembelajaran\, Universitas Indonesia \nCo-Host:\nUniversitas Pertahanan Indonesia\nPoliteknik Siber dan Sandi Negara \nTechnically sponsored by:\nIEEE Indonesia Section \nThank you.
URL:https://cs.ui.ac.id/event/global-academic-program/
LOCATION:Virtual
CATEGORIES:Academic
ATTACH;FMTTYPE=image/jpeg:https://cs.ui.ac.id/wp-content/uploads/2021/04/global-academic-program-2021-v2.jpeg
END:VEVENT
BEGIN:VEVENT
DTSTART;TZID=Asia/Krasnoyarsk:20210403T090000
DTEND;TZID=Asia/Krasnoyarsk:20210403T110000
DTSTAMP:20260420T071745
CREATED:20210401T010842Z
LAST-MODIFIED:20210409T020821Z
UID:13756-1617440400-1617447600@cs.ui.ac.id
SUMMARY:Diaspora Scientist Visitation
DESCRIPTION:Fasilkom UI Research Month\nEnhancing Research Experience | Road to ICACSIS-IWBIS 2021 \nLet’s join to our outstanding event of Diaspora Scientist Visitation with interesting talk on scientific writing. The speaker on our event is: \nDr. Wahyu Caesarendra (Universiti Brunei Darussalam)\nTopic: “Writing Academic Paper for Journal Publications: Tips & Tricks” \n🗓️ Saturday\, 03 April 2021\n🕘 09.00 – 11.00 (GMT+7)\n🔗 Registration Link: https://s.id/Fasilkom_03Apr \n📃 Free E-certificate \nFinancially sponsored by:\nDirektorat Pengembangan Akademik dan Sumber Daya Pembelajaran\, Universitas Indonesia \nCo-Host:\nUniversitas Pertahanan Indonesia\nPoliteknik Siber dan Sandi Negara \nTechnically sponsored by:\nIEEE Indonesia Section \nThank you.
URL:https://cs.ui.ac.id/event/diaspora-scientist-visitation/
LOCATION:Virtual
CATEGORIES:Academic
ATTACH;FMTTYPE=image/jpeg:https://cs.ui.ac.id/wp-content/uploads/2021/04/diaspora-scientis-visitation-fasilkom.jpeg
END:VEVENT
BEGIN:VEVENT
DTSTART;TZID=Asia/Krasnoyarsk:20210331T130000
DTEND;TZID=Asia/Krasnoyarsk:20210331T173000
DTSTAMP:20260420T071745
CREATED:20210327T085354Z
LAST-MODIFIED:20210729T090801Z
UID:14452-1617195600-1617211800@cs.ui.ac.id
SUMMARY:How to Write a Quality Technical Paper
DESCRIPTION:Fasilkom UI Research Month: Enhancing Research Experience | Road to ICACSIS-IWBIS 2021 \nLet’s join our Academic Reputation Enhancement Program with interesting talks on scientific research in the field of computer science. The speakers for this event are: \n1. Prof. Akinori Ishihara (Tokyo Institute of Technology)\nTopic: “How to Write a Quality Technical Paper” \n2. Mahardhika Pratama\, Ph.D. (Nanyang Technological University)\nTopic: “Tricks for A* Publications” \n🗓️ Wednesday\, 31 March 2021\n🕥 Session 1: 13.00 – 15.00 (GMT+7)\n🕜 Session 2: 15.30 – 17.30 (GMT+7)\n🔗 Registration Link: https://s.id/Fasilkom_HS \n📃 Free E-certificate \nFinancially sponsored by:\nDirektorat Pengembangan Akademik dan Sumber Daya Pembelajaran\, Universitas Indonesia \nTechnically sponsored by:\nIEEE Indonesia Section \nThank you.
URL:https://cs.ui.ac.id/event/how-to-write-a-quality-technical-paper/
LOCATION:Virtual
CATEGORIES:Academic
ATTACH;FMTTYPE=image/jpeg:https://cs.ui.ac.id/wp-content/uploads/2021/07/writing-quality-technical-paper-2021.jpg
END:VEVENT
BEGIN:VEVENT
DTSTART;TZID=Asia/Krasnoyarsk:20210323T100000
DTEND;TZID=Asia/Krasnoyarsk:20210323T120000
DTSTAMP:20260420T071745
CREATED:20210319T100738Z
LAST-MODIFIED:20210409T020815Z
UID:12976-1616493600-1616500800@cs.ui.ac.id
SUMMARY:Research Talk with Dr. Dickson Lukose
DESCRIPTION:Topic: Artificial Intelligence Techniques for Data Science\nEvent Timing: Tuesday\, 23 March\, 2021 at 10:00am – 12:00pm WIB (Live via Zoom)\nInvited Speaker: Dr. Dickson Lukose (Professor of Practice and Senior Data Scientist\, Monash University) \nRegistration link: https://s.id/researchtalkui \nAbstract: \nThis talk will focus on various Artificial Intelligence (AI) Techniques that are commonly used in Data Science activities. Special focus will be on different problems types that Data Scientist encounters. Some examples of problems include Classification problems\, Regression problems\, Relationship Analytics\, Feature Engineering\, Decisioning\, and Question-Answering. In other words\, we will explore what tools and techniques are essential in a Data Science Toolbox. \n\nSpeaker bio:\n\nDr. Lukose has over 25 years of experience in professional consulting services\, applied research and development in Artificial Intelligence Systems. Prior to joining Monash Data Futures Institute at Monash University\, Dr Lukose was the Chief Data Scientist at GCS Agile Pty. Ltd. (Australia)\, leading a team of Data Engineers and Scientist building Predictive Models\,  Ontology Modelling and Engineering. During his role as the Chief Research Director and Director of Artificial Intelligence Centre in MIMOS Berhad (Malaysia) from 2007 to 2016 he was responsible for leading a team of 70 research scientist\, software architects\, software engineering and knowledge engineers in creating intellectual properties and commercialization of these patents by incorporating them into large scale national project for the private and public sectors in Malaysia. His role was to plot the strategic direction of his teams R&D in AI\, in addition to mentor and guide his team on the application of novel AI techniques and technologies including Machine Learning\, Deep Learning\, Semantic Web\, Knowledge Graphs\, Social Network Analytics\, and Natural Language Processing to solve challenging real-world problems. Earlier in his career\, Dr. Lukose worked as Principal Knowledge Engineer with Mindbox Inc. (USA) and prior to that with Brightware Inc. (USA) responsible for architecture and development of high-performance Artificial Intelligence software for the Utility and Financial Sector. He holds a BSc (Hons) and a PhD from Deakin University (Australia).
URL:https://cs.ui.ac.id/event/research-talk-dickson-lukose/
LOCATION:Virtual
CATEGORIES:Academic,Research Talk
ATTACH;FMTTYPE=image/jpeg:https://cs.ui.ac.id/wp-content/uploads/2021/03/research-talk-fasilkom-v2.jpg
ORGANIZER;CN="Humas Fasilkom UI":MAILTO:humasfasilkom@cs.ui.ac.id
END:VEVENT
BEGIN:VEVENT
DTSTART;TZID=Asia/Krasnoyarsk:20210317T130000
DTEND;TZID=Asia/Krasnoyarsk:20210317T163000
DTSTAMP:20260420T071745
CREATED:20210317T001401Z
LAST-MODIFIED:20210401T011008Z
UID:12922-1615986000-1615998600@cs.ui.ac.id
SUMMARY:Visiting Professorship Program
DESCRIPTION:Enhancing Research Experience | Road to ICACSIS-IWBIS 2021 \nLet’s join to our outstanding event of Visiting Professorship Program with updated interesting topics. The speakers on our event are: \n1. Prof. Tsukasa Hirashima (Hiroshima University)\nTopic: “Learning Engineering and Technology-Enhanced Learning” \n2. Dr. Martin Schrepp (SAP AG Germany)\nTopic: “User Experience and Its Measurement” \nHost: Prof. Wisnu Jatmiko (Professor at Universitas Indonesia)\nModerator: Harry Budi Santoso\, Ph.D. (Coordinator of Master and Doctoral of Computer Science\, Universitas Indonesia) \n🗓️ Wednesday\, 17 March 2021\n🕐 Session 1: 13.00 – 14.30 (GMT+7)\n🕒 Session 2: 15.00 – 16.30 (GMT+7)\n🔗 Registration Link: https://s.id/Fasilkom_17Mar \n📃 E-certificate Link: https://s.id/Fasilkom_17Mar_certif \nFinancially sponsored by:\nDirektorat Pengembangan Akademik dan Sumber Daya Pembelajaran\, Universitas Indonesia \nCo-Host:\nUniversitas Pertahanan Indonesia\nPoliteknik Siber dan Sandi Negara \nTechnically sponsored by:\nIEEE Indonesia Section \nThank you and see you on the session.
URL:https://cs.ui.ac.id/event/fasilkom-ui-research-month/
LOCATION:Virtual
CATEGORIES:Academic
ATTACH;FMTTYPE=image/jpeg:https://cs.ui.ac.id/wp-content/uploads/2021/03/faculty-research-month.jpeg
END:VEVENT
BEGIN:VEVENT
DTSTART;TZID=Asia/Krasnoyarsk:20210313T123000
DTEND;TZID=Asia/Krasnoyarsk:20210313T153000
DTSTAMP:20260420T071745
CREATED:20210303T031030Z
LAST-MODIFIED:20210310T103338Z
UID:12757-1615638600-1615649400@cs.ui.ac.id
SUMMARY:Live Streaming: Wisuda Virtual Fasilkom UI (13 Maret 2021)
DESCRIPTION:Dear sivitas akademika Fasilkom UI: \nBersama ini kami mengundang Anda untuk menyaksikan Wisuda Virtual Fasilkom untuk jenjang sarjana dan pascasarjana pada: \nHari\, tanggal: Sabtu\, 13 Maret 2021\nWaktu: 12.30 – 15.30 WIB \nPada wisuda kali ini\, panitia mengangkat tema Emas Pasundan. Warna emas memiliki makna prestasi\, kesuksesan\, kemenangan\, dan juga kemakmuran. Sama seperti emas dalam bentuk fisik yang menjadi komoditas berharga dan juga prestise di setiap negara\, tema ini diambil dengan harapan para wisudawan dapat menjadi harta yang berharga bagi bangsa Indonesia. \nTerima kasih dan salam sehat selalu.
URL:https://cs.ui.ac.id/event/wisuda-virtual-fasilkom-ui-13-maret-2021/
LOCATION:Virtual
CATEGORIES:Academic
ATTACH;FMTTYPE=image/jpeg:https://cs.ui.ac.id/wp-content/uploads/2021/03/thumbnail-ytbe-webCS.jpg
END:VEVENT
END:VCALENDAR